BEGIN:VCALENDAR
VERSION:2.0
PRODID:-//NT Shelter - ECPv4.6.11//NONSGML v1.0//EN
CALSCALE:GREGORIAN
METHOD:PUBLISH
X-WR-CALNAME:NT Shelter
X-ORIGINAL-URL:https://ntshelter.org.au
X-WR-CALDESC:Events for NT Shelter
BEGIN:VEVENT
DTSTART;TZID=UTC+9.5:20180223T093000
DTEND;TZID=UTC+9.5:20180223T113000
DTSTAMP:20180224T193843
CREATED:20180222T002525Z
LAST-MODIFIED:20180222T011655Z
UID:10828-1519378200-1519385400@ntshelter.org.au
SUMMARY:Homelessness Response Group meeting
DESCRIPTION:
URL:https://ntshelter.org.au/event/homelessness-response-group-meeting/
LOCATION:Cnr Lee Point Rd & Yanyula Drv\, Anula\, NT\, 0814\, Australia
CATEGORIES:Homelessness Response Group
END:VEVENT
BEGIN:VEVENT
DTSTART;TZID=UTC+9.5:20180302T090000
DTEND;TZID=UTC+9.5:20180302T110000
DTSTAMP:20180224T193843
CREATED:20180222T001036Z
LAST-MODIFIED:20180222T001036Z
UID:10813-1519981200-1519988400@ntshelter.org.au
SUMMARY:Peer Support Workshop
DESCRIPTION:Are you interested in learning skills and tools for supporting yourself and your colleagues? Please join us for a 2 hour workshop for community based workers in the housing and homelessness sector. The workshop will provide you with an understanding of peer support and supervision and how it can work for you and your organisation. \n
URL:https://ntshelter.org.au/event/peer-support-workshop/
LOCATION:152 Miles Road (Darwin Corporate Park)\, Berrimah\, NT\, Australia
CATEGORIES:Peer Support Workshop
END:VEVENT
END:VCALENDAR